<?xml version="1.0" encoding="utf-8"?>
<!--Generated by Marushka, version 4.2.14.60, GEOVAP, spol.s r.o., 13.03.2026.-->
<Capabilities xmlns:xsd="http://www.w3.org/2001/XMLSchema" xmlns:xsi="http://www.w3.org/2001/XMLSchema-instance" xmlns:ows="http://www.opengis.net/ows/1.1" xmlns:xlink="http://www.w3.org/1999/xlink" version="1.0.0" xsi:schemaLocation="http://www.opengis.net/wmts/1.0 http://schemas.opengis.net/wmts/1.0/wmtsGetCapabilities_response.xsd" xmlns="http://www.opengis.net/wmts/1.0">
  <ows:ServiceIdentification>
    <ows:Title>WMTS Katastrální mapy - měřítková řada Google</ows:Title>
    <ows:Abstract>WMTS pro katastrální mapy v měřítkové řadě Google. Služba poskytuje data v souřadnicovém systému WGS 84/Pseudo-Mercator a je primárně určena pro aplikaci https://www.ikatastr.cz/, čemuž odpovídá i výběr vrstev. Všechny vrstvy kromě přehledové jsou poskytovány v úrovních 17 (1 : 4 265) - 25 (1 : 16). V případě menších měřítek je zobrazena informace která udává, že data nejsou pro dané měřítko dostupná.</ows:Abstract>
    <ows:ServiceType>OGC WMTS</ows:ServiceType>
    <ows:ServiceTypeVersion>1.0.0</ows:ServiceTypeVersion>
  </ows:ServiceIdentification>
  <ows:ServiceProvider>
    <ows:ProviderName>Český úřad zeměměřický a katastrální</ows:ProviderName>
    <ows:ProviderSite xlink:type="simple" xlink:href="https://cuzk.cz" />
    <ows:ServiceContact>
      <ows:IndividualName>Sekce centrální databáze</ows:IndividualName>
      <ows:ContactInfo>
        <ows:Phone>
			<ows:Voice>+420 284 044 455</ows:Voice>
		</ows:Phone>
        <ows:Address>
          <ows:DeliveryPoint>Pod sídlištěm 9</ows:DeliveryPoint>
          <ows:City>Praha</ows:City>
          <ows:PostalCode>182 11</ows:PostalCode>
          <ows:Country>Česká republika</ows:Country>
		  <ows:ElectronicMailAddress>cuzk.helpdesk@cuzk.cz</ows:ElectronicMailAddress>
        </ows:Address>
      </ows:ContactInfo>
    </ows:ServiceContact>
  </ows:ServiceProvider>
  <ows:OperationsMetadata>
    <ows:Operation name="GetCapabilities">
      <ows:DCP>
        <ows:HTTP>
          <ows:Get xlink:type="simple" xlink:href="https://services.cuzk.cz/wmts/local-km-wmts-google.asp">
            <ows:Constraint name="GetEncoding">
              <ows:AllowedValues>
                <ows:Value>KVP</ows:Value>
              </ows:AllowedValues>
            </ows:Constraint>
          </ows:Get>
		  <ows:Get xlink:href="https://services.cuzk.cz/wmts/local-km-wmts-google/rest/WMTS/1.0.0/WMTSCapabilities.xml">
                <ows:Constraint name="GetEncoding">
                    <ows:AllowedValues>
                        <ows:Value>RESTful</ows:Value>
                    </ows:AllowedValues>
                </ows:Constraint>
            </ows:Get>
        </ows:HTTP>
      </ows:DCP>
    </ows:Operation>
    <ows:Operation name="GetTile">
      <ows:DCP>
        <ows:HTTP>
          <ows:Get xlink:type="simple" xlink:href="https://services.cuzk.cz/wmts/local-km-wmts-google.asp">
            <ows:Constraint name="GetEncoding">
              <ows:AllowedValues>
                <ows:Value>KVP</ows:Value>
              </ows:AllowedValues>
            </ows:Constraint>
          </ows:Get>
            <ows:Get xlink:href="https://services.cuzk.cz/wmts/local-km-wmts-google/rest/WMTS/">
                <ows:Constraint name="GetEncoding">
                    <ows:AllowedValues>
                        <ows:Value>RESTful</ows:Value>
                    </ows:AllowedValues>
                </ows:Constraint>
            </ows:Get>
        </ows:HTTP>
      </ows:DCP>
    </ows:Operation>
  </ows:OperationsMetadata>
  <Contents>
    <Layer>
      <ows:Title>Definiční body budov</ows:Title>
      <ows:Abstract>Vrstva definičních bodů budov. Dlaždice s daty jsou poskytovány v úrovních 17 (1 : 4 265) - 25 (1 : 16). V případě menších měřítek je zobrazena informace udávající, že data nejsou pro dané měřítko dostupná.</ows:Abstract>
      <ows:WGS84BoundingBox crs="urn:ogc:def:crs:OGC:2:84">
        <ows:LowerCorner>11 48</ows:LowerCorner>
        <ows:UpperCorner>19 52</ows:UpperCorner>
      </ows:WGS84BoundingBox>
      <ows:Identifier>DEF_BUDOVY</ows:Identifier>
      <Style isDefault="true">
        <ows:Title>default</ows:Title>
        <ows:Identifier>default</ows:Identifier>
      </Style>
      <Format>image/png</Format>
      <TileMatrixSetLink>
        <TileMatrixSet>DEF_BUDOVY</TileMatrixSet>
      </TileMatrixSetLink>
        <ResourceURL template="https://services.cuzk.cz/wmts/local-km-wmts-google/rest/WMTS/{Style}/{TileMatrixSet}/{TileMatrix}/{TileRow}/{TileCol}" resourceType="tile" format="image/png"/>
    </Layer>
    <Layer>
      <ows:Title>Definiční body parcel</ows:Title>
      <ows:Abstract>Vrstva definičních bodů parcel. Dlaždice s daty jsou poskytovány v úrovních 17 (1 : 4 265) - 25 (1 : 16). V případě menších měřítek je zobrazena informace udávající, že data nejsou pro dané měřítko dostupná.</ows:Abstract>
      <ows:WGS84BoundingBox crs="urn:ogc:def:crs:OGC:2:84">
        <ows:LowerCorner>11 48</ows:LowerCorner>
        <ows:UpperCorner>19 52</ows:UpperCorner>
      </ows:WGS84BoundingBox>
      <ows:Identifier>DEF_PARCELY</ows:Identifier>
      <Style isDefault="true">
        <ows:Title>default</ows:Title>
        <ows:Identifier>default</ows:Identifier>
      </Style>
      <Format>image/png</Format>
      <TileMatrixSetLink>
        <TileMatrixSet>DEF_PARCELY</TileMatrixSet>
      </TileMatrixSetLink>
        <ResourceURL template="https://services.cuzk.cz/wmts/local-km-wmts-google/rest/WMTS/{Style}/{TileMatrixSet}/{TileMatrix}/{TileRow}/{TileCol}" resourceType="tile" format="image/png"/>
    </Layer>
    <Layer>
      <ows:Title>Hranice parcel barevné</ows:Title>
      <ows:Abstract>Vrstva s barevnými hranicemi parcel. Dlaždice s daty jsou poskytovány v úrovních 17 (1 : 4 265) - 25 (1 : 16). V případě menších měřítek je zobrazena informace udávající, že data nejsou pro dané měřítko dostupná.</ows:Abstract>
      <ows:WGS84BoundingBox crs="urn:ogc:def:crs:OGC:2:84">
        <ows:LowerCorner>11 48</ows:LowerCorner>
        <ows:UpperCorner>19 52</ows:UpperCorner>
      </ows:WGS84BoundingBox>
      <ows:Identifier>HP_BAREVNE</ows:Identifier>
      <Style isDefault="true">
        <ows:Title>default</ows:Title>
        <ows:Identifier>default</ows:Identifier>
      </Style>
      <Format>image/png</Format>
      <TileMatrixSetLink>
        <TileMatrixSet>HP_BAREVNE</TileMatrixSet>
      </TileMatrixSetLink>
        <ResourceURL template="https://services.cuzk.cz/wmts/local-km-wmts-google/rest/WMTS/{Style}/{TileMatrixSet}/{TileMatrix}/{TileRow}/{TileCol}" resourceType="tile" format="image/png"/>
    </Layer>
    <Layer>
      <ows:Title>Katastrální mapa (KN)</ows:Title>
      <ows:Abstract>Vrstva katastrální mapy (KN). Dlaždice s daty jsou poskytovány v úrovních 17 (1 : 4 265) - 25 (1 : 16). V případě menších měřítek je zobrazena informace udávající, že data nejsou pro dané měřítko dostupná.</ows:Abstract>
      <ows:WGS84BoundingBox crs="urn:ogc:def:crs:OGC:2:84">
        <ows:LowerCorner>11 48</ows:LowerCorner>
        <ows:UpperCorner>19 52</ows:UpperCorner>
      </ows:WGS84BoundingBox>
      <ows:Identifier>KN</ows:Identifier>
      <Style isDefault="true">
        <ows:Title>default</ows:Title>
        <ows:Identifier>default</ows:Identifier>
      </Style>
      <Style>
        <ows:Title>Yellow (žlutý) - pro zobrazení nad ortofotem</ows:Title>
        <ows:Identifier>Yellow</ows:Identifier>
      </Style>
      <Style>
        <ows:Title>Red (červený)</ows:Title>
        <ows:Identifier>Red</ows:Identifier>
      </Style>
      <Style>
        <ows:Title>Blue (modrý)</ows:Title>
        <ows:Identifier>Blue</ows:Identifier>
      </Style>
      <Format>image/png</Format>
      <TileMatrixSetLink>
        <TileMatrixSet>KN</TileMatrixSet>
      </TileMatrixSetLink>
        <ResourceURL template="https://services.cuzk.cz/wmts/local-km-wmts-google/rest/WMTS/{Style}/{TileMatrixSet}/{TileMatrix}/{TileRow}/{TileCol}" resourceType="tile" format="image/png"/>
    </Layer>
    <Layer>
      <ows:Title>Katastrální mapa (KN) inverzní</ows:Title>
      <ows:Abstract>Vrstva katastrální mapy (KN) inverzní. Dlaždice s daty jsou poskytovány v úrovních 17 (1 : 4 265) - 25 (1 : 16). V případě menších měřítek je zobrazena informace udávající, že data nejsou pro dané měřítko dostupná.</ows:Abstract>
      <ows:WGS84BoundingBox crs="urn:ogc:def:crs:OGC:2:84">
        <ows:LowerCorner>11 48</ows:LowerCorner>
        <ows:UpperCorner>19 52</ows:UpperCorner>
      </ows:WGS84BoundingBox>
      <ows:Identifier>KN_I</ows:Identifier>
      <Style isDefault="true">
        <ows:Title>default</ows:Title>
        <ows:Identifier>default</ows:Identifier>
      </Style>
      <Format>image/png</Format>
      <TileMatrixSetLink>
        <TileMatrixSet>KN_I</TileMatrixSet>
      </TileMatrixSetLink>
        <ResourceURL template="https://services.cuzk.cz/wmts/local-km-wmts-google/rest/WMTS/{Style}/{TileMatrixSet}/{TileMatrix}/{TileRow}/{TileCol}" resourceType="tile" format="image/png"/>
    </Layer>
    <Layer>
      <ows:Title>Přehledová mapa</ows:Title>
      <ows:Abstract>Vrstva přehledové mapy. V závislosti na úrovni dlaždic se zobrazují hranice krajů, hranice katastrálních pracovišť, nebo hranice katastrálních území.</ows:Abstract>
      <ows:WGS84BoundingBox crs="urn:ogc:def:crs:OGC:2:84">
        <ows:LowerCorner>11 48</ows:LowerCorner>
        <ows:UpperCorner>19 52</ows:UpperCorner>
      </ows:WGS84BoundingBox>
      <ows:Identifier>00.OverviewMap</ows:Identifier>
      <Style isDefault="true">
        <ows:Title>default</ows:Title>
        <ows:Identifier>default</ows:Identifier>
      </Style>
      <Format>image/png</Format>
      <TileMatrixSetLink>
        <TileMatrixSet>OV_MAP</TileMatrixSet>
      </TileMatrixSetLink>
        <ResourceURL template="https://services.cuzk.cz/wmts/local-km-wmts-google/rest/WMTS/{Style}/{TileMatrixSet}/{TileMatrix}/{TileRow}/{TileCol}" resourceType="tile" format="image/png"/>
    </Layer>
    <Layer>
      <ows:Title>Věcná břemena</ows:Title>
      <ows:Abstract>Vrstva obsahující věcná břemena. Dlaždice s daty jsou poskytovány v úrovních 17 (1 : 4 265) - 25 (1 : 16). V případě menších měřítek je zobrazena informace udávající, že data nejsou pro dané měřítko dostupná.</ows:Abstract>
      <ows:WGS84BoundingBox crs="urn:ogc:def:crs:OGC:2:84">
        <ows:LowerCorner>11 48</ows:LowerCorner>
        <ows:UpperCorner>19 52</ows:UpperCorner>
      </ows:WGS84BoundingBox>
      <ows:Identifier>VB</ows:Identifier>
      <Style isDefault="true">
        <ows:Title>default</ows:Title>
        <ows:Identifier>default</ows:Identifier>
      </Style>
      <Format>image/png</Format>
      <TileMatrixSetLink>
        <TileMatrixSet>VB</TileMatrixSet>
      </TileMatrixSetLink>
        <ResourceURL template="https://services.cuzk.cz/wmts/local-km-wmts-google/rest/WMTS/{Style}/{TileMatrixSet}/{TileMatrix}/{TileRow}/{TileCol}" resourceType="tile" format="image/png"/>
    </Layer>
    <TileMatrixSet>
      <ows:Abstract>Definiční body budov</ows:Abstract>
      <ows:Identifier>DEF_BUDOVY</ows:Identifier>
      <ows:SupportedCRS>EPSG:3857</ows:SupportedCRS>
	  <WellKnownScaleSet>urn:ogc:def:wkss:OGC:1.0:GoogleMapsCompatible</WellKnownScaleSet>
      <TileMatrix>
        <ows:Abstract>Zoom_00</ows:Abstract>
        <ows:Identifier>0</ows:Identifier>
        <ScaleDenominator>559082264.0287178</ScaleDenominator>
        <TopLeftCorner>-20037508.3427892 20037508.3427892</TopLeftCorner>
        <TileWidth>256</TileWidth>
        <TileHeight>256</TileHeight>
        <MatrixWidth>1</MatrixWidth>
        <MatrixHeight>1</MatrixHeight>
      </TileMatrix>
      <TileMatrix>
        <ows:Abstract>Zoom_01</ows:Abstract>
        <ows:Identifier>1</ows:Identifier>
        <ScaleDenominator>279541132.0143589</ScaleDenominator>
        <TopLeftCorner>-20037508.3427892 20037508.3427892</TopLeftCorner>
        <TileWidth>256</TileWidth>
        <TileHeight>256</TileHeight>
        <MatrixWidth>2</MatrixWidth>
        <MatrixHeight>2</MatrixHeight>
      </TileMatrix>
      <TileMatrix>
        <ows:Abstract>Zoom_02</ows:Abstract>
        <ows:Identifier>2</ows:Identifier>
        <ScaleDenominator>139770566.0071794</ScaleDenominator>
        <TopLeftCorner>-20037508.3427892 20037508.3427892</TopLeftCorner>
        <TileWidth>256</TileWidth>
        <TileHeight>256</TileHeight>
        <MatrixWidth>4</MatrixWidth>
        <MatrixHeight>4</MatrixHeight>
      </TileMatrix>
      <TileMatrix>
        <ows:Abstract>Zoom_03</ows:Abstract>
        <ows:Identifier>3</ows:Identifier>
        <ScaleDenominator>69885283.00358972</ScaleDenominator>
        <TopLeftCorner>-20037508.3427892 20037508.3427892</TopLeftCorner>
        <TileWidth>256</TileWidth>
        <TileHeight>256</TileHeight>
        <MatrixWidth>8</MatrixWidth>
        <MatrixHeight>8</MatrixHeight>
      </TileMatrix>
      <TileMatrix>
        <ows:Abstract>Zoom_04</ows:Abstract>
        <ows:Identifier>4</ows:Identifier>
        <ScaleDenominator>34942641.50179486</ScaleDenominator>
        <TopLeftCorner>-20037508.3427892 20037508.3427892</TopLeftCorner>
        <TileWidth>256</TileWidth>
        <TileHeight>256</TileHeight>
        <MatrixWidth>16</MatrixWidth>
        <MatrixHeight>16</MatrixHeight>
      </TileMatrix>
      <TileMatrix>
        <ows:Abstract>Zoom_05</ows:Abstract>
        <ows:Identifier>5</ows:Identifier>
        <ScaleDenominator>17471320.75089743</ScaleDenominator>
        <TopLeftCorner>-20037508.3427892 20037508.3427892</TopLeftCorner>
        <TileWidth>256</TileWidth>
        <TileHeight>256</TileHeight>
        <MatrixWidth>32</MatrixWidth>
        <MatrixHeight>32</MatrixHeight>
      </TileMatrix>
      <TileMatrix>
        <ows:Abstract>Zoom_06</ows:Abstract>
        <ows:Identifier>6</ows:Identifier>
        <ScaleDenominator>8735660.375448715</ScaleDenominator>
        <TopLeftCorner>-20037508.3427892 20037508.3427892</TopLeftCorner>
        <TileWidth>256</TileWidth>
        <TileHeight>256</TileHeight>
        <MatrixWidth>64</MatrixWidth>
        <MatrixHeight>64</MatrixHeight>
      </TileMatrix>
      <TileMatrix>
        <ows:Abstract>Zoom_07</ows:Abstract>
        <ows:Identifier>7</ows:Identifier>
        <ScaleDenominator>4367830.187724357</ScaleDenominator>
        <TopLeftCorner>-20037508.3427892 20037508.3427892</TopLeftCorner>
        <TileWidth>256</TileWidth>
        <TileHeight>256</TileHeight>
        <MatrixWidth>128</MatrixWidth>
        <MatrixHeight>128</MatrixHeight>
      </TileMatrix>
      <TileMatrix>
        <ows:Abstract>Zoom_08</ows:Abstract>
        <ows:Identifier>8</ows:Identifier>
        <ScaleDenominator>2183915.093862179</ScaleDenominator>
        <TopLeftCorner>-20037508.3427892 20037508.3427892</TopLeftCorner>
        <TileWidth>256</TileWidth>
        <TileHeight>256</TileHeight>
        <MatrixWidth>256</MatrixWidth>
        <MatrixHeight>256</MatrixHeight>
      </TileMatrix>
      <TileMatrix>
        <ows:Abstract>Zoom_09</ows:Abstract>
        <ows:Identifier>9</ows:Identifier>
        <ScaleDenominator>1091957.546931089</ScaleDenominator>
        <TopLeftCorner>-20037508.3427892 20037508.3427892</TopLeftCorner>
        <TileWidth>256</TileWidth>
        <TileHeight>256</TileHeight>
        <MatrixWidth>512</MatrixWidth>
        <MatrixHeight>512</MatrixHeight>
      </TileMatrix>
      <TileMatrix>
        <ows:Abstract>Zoom_10</ows:Abstract>
        <ows:Identifier>10</ows:Identifier>
        <ScaleDenominator>545978.7734655447</ScaleDenominator>
        <TopLeftCorner>-20037508.3427892 20037508.3427892</TopLeftCorner>
        <TileWidth>256</TileWidth>
        <TileHeight>256</TileHeight>
        <MatrixWidth>1024</MatrixWidth>
        <MatrixHeight>1024</MatrixHeight>
      </TileMatrix>
      <TileMatrix>
        <ows:Abstract>Zoom_11</ows:Abstract>
        <ows:Identifier>11</ows:Identifier>
        <ScaleDenominator>272989.3867327723</ScaleDenominator>
        <TopLeftCorner>-20037508.3427892 20037508.3427892</TopLeftCorner>
        <TileWidth>256</TileWidth>
        <TileHeight>256</TileHeight>
        <MatrixWidth>2048</MatrixWidth>
        <MatrixHeight>2048</MatrixHeight>
      </TileMatrix>
      <TileMatrix>
        <ows:Abstract>Zoom_12</ows:Abstract>
        <ows:Identifier>12</ows:Identifier>
        <ScaleDenominator>136494.6933663862</ScaleDenominator>
        <TopLeftCorner>-20037508.3427892 20037508.3427892</TopLeftCorner>
        <TileWidth>256</TileWidth>
        <TileHeight>256</TileHeight>
        <MatrixWidth>4096</MatrixWidth>
        <MatrixHeight>4096</MatrixHeight>
      </TileMatrix>
      <TileMatrix>
        <ows:Abstract>Zoom_13</ows:Abstract>
        <ows:Identifier>13</ows:Identifier>
        <ScaleDenominator>68247.34668319309</ScaleDenominator>
        <TopLeftCorner>-20037508.3427892 20037508.3427892</TopLeftCorner>
        <TileWidth>256</TileWidth>
        <TileHeight>256</TileHeight>
        <MatrixWidth>8192</MatrixWidth>
        <MatrixHeight>8192</MatrixHeight>
      </TileMatrix>
      <TileMatrix>
        <ows:Abstract>Zoom_14</ows:Abstract>
        <ows:Identifier>14</ows:Identifier>
        <ScaleDenominator>34123.67334159654</ScaleDenominator>
        <TopLeftCorner>-20037508.3427892 20037508.3427892</TopLeftCorner>
        <TileWidth>256</TileWidth>
        <TileHeight>256</TileHeight>
        <MatrixWidth>16384</MatrixWidth>
        <MatrixHeight>16384</MatrixHeight>
      </TileMatrix>
      <TileMatrix>
        <ows:Abstract>Zoom_15</ows:Abstract>
        <ows:Identifier>15</ows:Identifier>
        <ScaleDenominator>17061.83667079827</ScaleDenominator>
        <TopLeftCorner>-20037508.3427892 20037508.3427892</TopLeftCorner>
        <TileWidth>256</TileWidth>
        <TileHeight>256</TileHeight>
        <MatrixWidth>32768</MatrixWidth>
        <MatrixHeight>32768</MatrixHeight>
      </TileMatrix>
      <TileMatrix>
        <ows:Abstract>Zoom_16</ows:Abstract>
        <ows:Identifier>16</ows:Identifier>
        <ScaleDenominator>8530.918335399136</ScaleDenominator>
        <TopLeftCorner>-20037508.3427892 20037508.3427892</TopLeftCorner>
        <TileWidth>256</TileWidth>
        <TileHeight>256</TileHeight>
        <MatrixWidth>65536</MatrixWidth>
        <MatrixHeight>65536</MatrixHeight>
      </TileMatrix>
      <TileMatrix>
        <ows:Abstract>Zoom_17</ows:Abstract>
        <ows:Identifier>17</ows:Identifier>
        <ScaleDenominator>4265.459167699568</ScaleDenominator>
        <TopLeftCorner>-20037508.3427892 20037508.3427892</TopLeftCorner>
        <TileWidth>256</TileWidth>
        <TileHeight>256</TileHeight>
        <MatrixWidth>131072</MatrixWidth>
        <MatrixHeight>131072</MatrixHeight>
      </TileMatrix>
      <TileMatrix>
        <ows:Abstract>Zoom_18</ows:Abstract>
        <ows:Identifier>18</ows:Identifier>
        <ScaleDenominator>2132.729583849784</ScaleDenominator>
        <TopLeftCorner>-20037508.3427892 20037508.3427892</TopLeftCorner>
        <TileWidth>256</TileWidth>
        <TileHeight>256</TileHeight>
        <MatrixWidth>262144</MatrixWidth>
        <MatrixHeight>262144</MatrixHeight>
      </TileMatrix>
      <TileMatrix>
        <ows:Abstract>Zoom_19</ows:Abstract>
        <ows:Identifier>19</ows:Identifier>
        <ScaleDenominator>1066.364791924892</ScaleDenominator>
        <TopLeftCorner>-20037508.3427892 20037508.3427892</TopLeftCorner>
        <TileWidth>256</TileWidth>
        <TileHeight>256</TileHeight>
        <MatrixWidth>524288</MatrixWidth>
        <MatrixHeight>524288</MatrixHeight>
      </TileMatrix>
      <TileMatrix>
        <ows:Abstract>Zoom_20</ows:Abstract>
        <ows:Identifier>20</ows:Identifier>
        <ScaleDenominator>533.182395962446</ScaleDenominator>
        <TopLeftCorner>-20037508.3427892 20037508.3427892</TopLeftCorner>
        <TileWidth>256</TileWidth>
        <TileHeight>256</TileHeight>
        <MatrixWidth>1048576</MatrixWidth>
        <MatrixHeight>1048576</MatrixHeight>
      </TileMatrix>
      <TileMatrix>
        <ows:Abstract>Zoom_21</ows:Abstract>
        <ows:Identifier>21</ows:Identifier>
        <ScaleDenominator>266.591197981223</ScaleDenominator>
        <TopLeftCorner>-20037508.3427892 20037508.3427892</TopLeftCorner>
        <TileWidth>256</TileWidth>
        <TileHeight>256</TileHeight>
        <MatrixWidth>2097152</MatrixWidth>
        <MatrixHeight>2097152</MatrixHeight>
      </TileMatrix>
      <TileMatrix>
        <ows:Abstract>Zoom_22</ows:Abstract>
        <ows:Identifier>22</ows:Identifier>
        <ScaleDenominator>133.2955989906115</ScaleDenominator>
        <TopLeftCorner>-20037508.3427892 20037508.3427892</TopLeftCorner>
        <TileWidth>256</TileWidth>
        <TileHeight>256</TileHeight>
        <MatrixWidth>4194304</MatrixWidth>
        <MatrixHeight>4194304</MatrixHeight>
      </TileMatrix>
      <TileMatrix>
        <ows:Abstract>Zoom_23</ows:Abstract>
        <ows:Identifier>23</ows:Identifier>
        <ScaleDenominator>66.64779949530575</ScaleDenominator>
        <TopLeftCorner>-20037508.3427892 20037508.3427892</TopLeftCorner>
        <TileWidth>256</TileWidth>
        <TileHeight>256</TileHeight>
        <MatrixWidth>8388608</MatrixWidth>
        <MatrixHeight>8388608</MatrixHeight>
      </TileMatrix>
      <TileMatrix>
        <ows:Abstract>Zoom_24</ows:Abstract>
        <ows:Identifier>24</ows:Identifier>
        <ScaleDenominator>33.323899747652874</ScaleDenominator>
        <TopLeftCorner>-20037508.3427892 20037508.3427892</TopLeftCorner>
        <TileWidth>256</TileWidth>
        <TileHeight>256</TileHeight>
        <MatrixWidth>16777216</MatrixWidth>
        <MatrixHeight>16777216</MatrixHeight>
      </TileMatrix>
      <TileMatrix>
        <ows:Abstract>Zoom_25</ows:Abstract>
        <ows:Identifier>25</ows:Identifier>
        <ScaleDenominator>16.661949873826437</ScaleDenominator>
        <TopLeftCorner>-20037508.3427892 20037508.3427892</TopLeftCorner>
        <TileWidth>256</TileWidth>
        <TileHeight>256</TileHeight>
        <MatrixWidth>33554432</MatrixWidth>
        <MatrixHeight>33554432</MatrixHeight>
      </TileMatrix>
    </TileMatrixSet>
    <TileMatrixSet>
      <ows:Abstract>Definiční body parcel</ows:Abstract>
      <ows:Identifier>DEF_PARCELY</ows:Identifier>
      <ows:SupportedCRS>EPSG:3857</ows:SupportedCRS>
	  <WellKnownScaleSet>urn:ogc:def:wkss:OGC:1.0:GoogleMapsCompatible</WellKnownScaleSet>
      <TileMatrix>
        <ows:Abstract>Zoom_00</ows:Abstract>
        <ows:Identifier>0</ows:Identifier>
        <ScaleDenominator>559082264.0287178</ScaleDenominator>
        <TopLeftCorner>-20037508.3427892 20037508.3427892</TopLeftCorner>
        <TileWidth>256</TileWidth>
        <TileHeight>256</TileHeight>
        <MatrixWidth>1</MatrixWidth>
        <MatrixHeight>1</MatrixHeight>
      </TileMatrix>
      <TileMatrix>
        <ows:Abstract>Zoom_01</ows:Abstract>
        <ows:Identifier>1</ows:Identifier>
        <ScaleDenominator>279541132.0143589</ScaleDenominator>
        <TopLeftCorner>-20037508.3427892 20037508.3427892</TopLeftCorner>
        <TileWidth>256</TileWidth>
        <TileHeight>256</TileHeight>
        <MatrixWidth>2</MatrixWidth>
        <MatrixHeight>2</MatrixHeight>
      </TileMatrix>
      <TileMatrix>
        <ows:Abstract>Zoom_02</ows:Abstract>
        <ows:Identifier>2</ows:Identifier>
